BEGIN:VCALENDAR
VERSION:2.0
PRODID:-//hacksw/handcal//NONSGML v1.0//EN
BEGIN:VEVENT
DTSTAMP:20180828T163000Z
DTSTART:20180828T163000Z
DTEND:20180828T163000Z
SUMMARY:Besichtigung Düsseldorfer Synagoge und Vortrag  einer Rabbinerin
END:VEVENT
END:VCALENDAR
